BEGIN:VCALENDAR
VERSION:2.0
PRODID:-//chikkutakku.com//RDFCal 1.0//EN
X-WR-CALDESC:GoogleカレンダーやiCalendar形式情報を共有シェ
 アしましょう。近所のイベントから全国のイベントま
 で今日のイベント検索やスケジュールを決めるならち
 っくたっく
X-WR-CALNAME:ちっくたっく
X-WR-TIMEZONE:UTC
BEGIN:VEVENT
SUMMARY:Ichigo Ichie (超新星ジャケット盤 CD＋DVD＋PhotoBook)(
 初回限定盤)
DTSTART;VALUE=DATE:20260519
DTEND;VALUE=DATE:20260520
UID:323003003889
DESCRIPTION:2026-05-20Ichigo Ichie (超新星ジャケット盤 CD＋DVD
 ＋PhotoBook)(初回限定盤)超新星(株)徳間ジャパンコミュニ
 ケーションズ
LOCATION:
END:VEVENT
END:VCALENDAR
