BEGIN:VCALENDAR
VERSION:2.0
PRODID:-//chikkutakku.com//RDFCal 1.0//EN
X-WR-CALDESC:GoogleカレンダーやiCalendar形式情報を共有シェ
 アしましょう。近所のイベントから全国のイベントま
 で今日のイベント検索やスケジュールを決めるならち
 っくたっく
X-WR-CALNAME:ちっくたっく
X-WR-TIMEZONE:UTC
BEGIN:VEVENT
SUMMARY:【1対1接客イベント】ミュー♡シャトン
DTSTART;VALUE=DATE-TIME:20260424T140000Z
DTEND;VALUE=DATE-TIME:20260424T145900Z
UID:323304748085
DESCRIPTION:【イベント主催者】\n　紗英-sae0214\n【イベン
 ト内容】\n　『ニンゲン』に憧れるネコチャンたちがド
 キドキを教えて貰うイベントです♪\n月夜、子猫の可愛
 いお部屋にご招待…♡\n【イベントジャンル】\n　その
 他交流会\, 店舗系イベント\, ロールプレイ\, 定期イベ
 ント\n【参加条件（モデル、人数制限など）】\n　【禁
 止事項】\n・録画&画面共有\n・NSFW、著作権侵害を目的
 としたアバター\n・武器やパーティクルの使用\n・イベ
 ント中のキャストへのフレンド申請\n・大きすぎるアバ
 ターの使用\n※アバター容量35MB以下推奨です※\n【参加
 方法】\n　主催者(紗英-sae0214)にフレンド申請を送り、
 イベント時間(23時)になりましたら「招待をリクエスト
 」を2回までお送り下さい。当選された方のみご返信さ
 せて頂きますので、そのままインスタンスへ入室お願
 い致します。\n【備考】\n　ハッシュタグ【#ミューシャ
 トン】でXから雰囲気をご覧いただけます！
LOCATION:
END:VEVENT
END:VCALENDAR
