BEGIN:VCALENDAR
VERSION:2.0
PRODID:-//chikkutakku.com//RDFCal 1.0//EN
X-WR-CALDESC:GoogleカレンダーやiCalendar形式情報を共有シェ
 アしましょう。近所のイベントから全国のイベントま
 で今日のイベント検索やスケジュールを決めるならち
 っくたっく
X-WR-CALNAME:ちっくたっく
X-WR-TIMEZONE:UTC
BEGIN:VEVENT
SUMMARY:自治市長政見發表(活動中心)
DTSTART;VALUE=DATE-TIME:20260507T001000Z
DTEND;VALUE=DATE-TIME:20260507T004000Z
UID:323431529543
DESCRIPTION:自治市長政見發表(活動中心)
LOCATION:
END:VEVENT
END:VCALENDAR
