BEGIN:VCALENDAR
VERSION:2.0
PRODID:-//chikkutakku.com//RDFCal 1.0//EN
X-WR-CALDESC:GoogleカレンダーやiCalendar形式情報を共有シェ
 アしましょう。近所のイベントから全国のイベントま
 で今日のイベント検索やスケジュールを決めるならち
 っくたっく
X-WR-CALNAME:ちっくたっく
X-WR-TIMEZONE:UTC
BEGIN:VEVENT
SUMMARY:Tufts FMS Film Festival: Script to Screen + Directed Study
DTSTART;VALUE=DATE-TIME:20260429T000000Z
DTEND;VALUE=DATE-TIME:20260429T010000Z
UID:323945543880
DESCRIPTION:Building: Barnum Hall\nCity: Medford\, MA 02155\nCampus: Medfo
 rd/Somerville campus\nLocation Details: Barnum LL08\n163 Packard Ave\, Med
 ford\nOpen to Public: Yes\nPrimary Audience: Students (Undergraduate)\nEve
 nt Type: Film Screening\nEvent Sponsor: School of Arts and Sciences\nEvent
  Sponsor Department / Area: Film and Media Studies program\nEvent Sponsor 
 Details: Film and Media Studies\nEvent Contact Name: Gina O&#39\;Connor\nE
 vent Contact Email: gina.o_connor@tufts.edu\n\nFMS Student Film Festival\n
 Script to Screen and Directed Study\n\nFeaturing films from:\n\nDon Schech
 ter&#39\;s From Script to Screen students Seray Ajei\, Ken Bailey\, Vira C
 hawla\, Alez Herz\, Virginia Hopkins\, Emmanuel Weintraub\, and Leyi Yang.
 \n\nHoward Woolf&#39\;s Directed Study students Alexander Minagar and Marc
 o Steel\n\n\nFull Film Festival Schedule\nTuesday\, April 28\n6:00-7:45 Ad
 vanced Documentary\, part 1\n8:00-9:00 Script to Screen\; Directed Study \
 n\nWednesday\, April 29\n6:00-7:45 Advanced Documentary\, part 2\n8:00-9:0
 0 AI in Motion\; Media Futures Lab\; Experimental Film\n9:00 Media Future
 ’s Lab installation on Tisch Roof\n\nThursday\, April 30 \n6:00-8:00 Sen
 ior Honors Thesis\, part 1\n8:00-8:30 Intermission\n8:30-10:00 Senior Hono
 rs Thesis\, part 2
LOCATION:Barnum LL08 Tufts Medford/Somerville campus
END:VEVENT
END:VCALENDAR
