BEGIN:VCALENDAR
VERSION:2.0
PRODID:-//chikkutakku.com//RDFCal 1.0//EN
X-WR-CALDESC:GoogleカレンダーやiCalendar形式情報を共有シェ
 アしましょう。近所のイベントから全国のイベントま
 で今日のイベント検索やスケジュールを決めるならち
 っくたっく
X-WR-CALNAME:ちっくたっく
X-WR-TIMEZONE:UTC
BEGIN:VEVENT
SUMMARY:【RP】異世界宿屋リンドブルム
DTSTART;VALUE=DATE-TIME:20260426T130000Z
DTEND;VALUE=DATE-TIME:20260426T140000Z
UID:324091022985
DESCRIPTION:【イベント主催者】\n　大妖精フォレスト\n【
 イベント内容】\n　VRCイベントグループ電脳のアルカデ
 ィアが送る、異世界の食事と楽しいひと時を体験でき
 るお店 コラボ、配信、取材などはお問い合わせくださ
 い。 #異世界宿屋リンドブルム #電脳のアルカディア\n
 【イベントジャンル】\n　店舗系イベント\, ロールプレ
 イ\n【参加条件（モデル、人数制限など）】\n　PC、VC、
 日本語話者\n【参加方法】\n　グループ+にて開催いたし
 ます。\nhttps://vrc.group/052024.2108\n【備考】\n　公式X\nhttps:
 //x.com/InnLindblum
LOCATION:
END:VEVENT
END:VCALENDAR
