BEGIN:VCALENDAR
VERSION:2.0
PRODID:-//chikkutakku.com//RDFCal 1.0//EN
X-WR-CALDESC:GoogleカレンダーやiCalendar形式情報を共有シェ
 アしましょう。近所のイベントから全国のイベントま
 で今日のイベント検索やスケジュールを決めるならち
 っくたっく
X-WR-CALNAME:ちっくたっく
X-WR-TIMEZONE:UTC
BEGIN:VEVENT
SUMMARY:第18回辛辛魚集会
DTSTART;VALUE=DATE-TIME:20260423T120000Z
DTEND;VALUE=DATE-TIME:20260423T130000Z
UID:324377418437
DESCRIPTION:【イベント主催者】\n　Arisan_555\n【イベント内
 容】\n　辛いラーメン（辛辛魚らーめん）をみんなで一
 斉に食べるイベントです。\n\n新生活、新学期新しいは
 じまりの季節。\n新しい辛さに挑戦してみるのはいかが
 ですか？\n慣れない環境で溜まったストレスをコクのあ
 る\n辛さが洗い流してくれるでしょう。\n辛辛魚は持ち
 ましたね？是非お待ちしてます。\n【イベントジャンル
 】\n　その他交流会\n【参加条件（モデル、人数制限な
 ど）】\n　スガキヤ辛辛魚ラーメン（または辛いラーメ
 ン）\n一緒に食べられる環境\n【参加方法】\n　21:00にあ
 りさんやGroupインスタンスにJoin\nhttps://vrchat.com/home/group/
 grp_56cab2de-c00f-415e-9f2d-37c185ed11d2\n【備考】\n　
LOCATION:
END:VEVENT
END:VCALENDAR
