BEGIN:VCALENDAR
VERSION:2.0
PRODID:-//chikkutakku.com//RDFCal 1.0//EN
X-WR-CALDESC:GoogleカレンダーやiCalendar形式情報を共有シェ
 アしましょう。近所のイベントから全国のイベントま
 で今日のイベント検索やスケジュールを決めるならち
 っくたっく
X-WR-CALNAME:ちっくたっく
X-WR-TIMEZONE:UTC
BEGIN:VEVENT
SUMMARY:(19時)ヨセゲー　勝手に芸協らくごまつりプレ落
 語会
DTSTART;VALUE=DATE:20260506
DTEND;VALUE=DATE:20260507
UID:324821062169
DESCRIPTION:\n出演：三遊亭遊喜・春風​亭​伝枝・柳亭芝
 楽・笑福亭里光・三遊亭小笑\n開場：​18時半　開演：1
 9時　  \n料金：予約​2000円　当日2500円　\nご予約はら
 くごカフェまで　​rakugocafe@hotm​​ail.co.jp　\n電話03-​
 6268-9818（平日12時​～​18時まで）
LOCATION:
END:VEVENT
END:VCALENDAR
