BEGIN:VCALENDAR
VERSION:2.0
PRODID:-//chikkutakku.com//RDFCal 1.0//EN
X-WR-CALDESC:GoogleカレンダーやiCalendar形式情報を共有シェ
 アしましょう。近所のイベントから全国のイベントま
 で今日のイベント検索やスケジュールを決めるならち
 っくたっく
X-WR-CALNAME:ちっくたっく
X-WR-TIMEZONE:UTC
BEGIN:VEVENT
SUMMARY:みんなの短歌
DTSTART;VALUE=DATE:20260422
DTEND;VALUE=DATE:20260423
UID:324870955538
DESCRIPTION:2026-04-23みんなの短歌テレビ朝日「夫が寝たあ
 とに」/俵万智マガジンハウス
LOCATION:
END:VEVENT
END:VCALENDAR
