BEGIN:VCALENDAR
VERSION:2.0
PRODID:-//chikkutakku.com//RDFCal 1.0//EN
X-WR-CALDESC:GoogleカレンダーやiCalendar形式情報を共有シェ
 アしましょう。近所のイベントから全国のイベントま
 で今日のイベント検索やスケジュールを決めるならち
 っくたっく
X-WR-CALNAME:ちっくたっく
X-WR-TIMEZONE:UTC
BEGIN:VEVENT
SUMMARY:กิจกรรมให้คำปรึกษาการป
 ระเมินคุณธรรมและความโปร่
 งใส (Integrity and Transparency Assessment - ITA)
DTSTART;VALUE=DATE-TIME:20260519T063000Z
DTEND;VALUE=DATE-TIME:20260519T093000Z
UID:325174777178
DESCRIPTION:เรียน รองอธิการบดีฝ่า
 ยบริหารและกิจการสภามหาวิ
 ทยาลัย\nสป.อว. ขอเชิญเข้าร่ว
 มกิจกรรมให้คำปรึกษาการปร
 ะเมินคุณธรรมและความโปร่ง
 ใส (Integrity and Transparency Assessment - ITA) ในการดำ
 เนินงานของหน่วยงานในสังก
 ัดกระทรวงการอุดมศึกษา วิท
 ยาศาสตร์ วิจัยและนวัตกรรม 
 และหน่วยงานภาครัฐ ประเภทส
 ถาบันอุดมศึกษา (MHESI ITA Clinic) ประจ
 ำปีงบประมาณ พ.ศ. 2569 ในระหว่า
 งเดือนเมษายน-มิถุนายน 2569 (จำ
 นวน 4 ครั้ง)\n- ครั้งที่ 1 วันที
 ่ 20 เม.ย. 69 เวลา 13.30-16.30 น.\n- ครั้งท
 ี่ 2 วันที่ 5 พ.ค. 69 เวลา 13.30-16.30 น.\n-
  ครั้งที่ 3 วันที่ 19 พ.ค. 69 เวลา
  13.30-16.30 น.\n- ครั้งที่ 4 วันที่ 2 ม
 ิ.ย. 69 เวลา 13.30-16.30 น.\nผ่านระบบ (Zoom 
 Cloud Meetings) ซึ่งสามารถลงทะเบียน
 และดูรายละเอียดการประชุม
 ได้ที่เอกสารดังแนบ\n\nมอบคุ
 ณพิมพ์ชนก และหัวหน้าฝ่าย เ
 ข้าร่วมประชุม\n\n\nจิตรา ลงเม
 ื่อ 17-04-69
LOCATION:ออนไลน์ 
END:VEVENT
END:VCALENDAR
