BEGIN:VCALENDAR
VERSION:2.0
PRODID:-//chikkutakku.com//RDFCal 1.0//EN
X-WR-CALDESC:GoogleカレンダーやiCalendar形式情報を共有シェ
 アしましょう。近所のイベントから全国のイベントま
 で今日のイベント検索やスケジュールを決めるならち
 っくたっく
X-WR-CALNAME:ちっくたっく
X-WR-TIMEZONE:UTC
BEGIN:VEVENT
SUMMARY:MIDNIGHT YABAI BAR
DTSTART;VALUE=DATE-TIME:20260425T140000Z
DTEND;VALUE=DATE-TIME:20260425T170000Z
UID:325493960211
DESCRIPTION:【イベント主催者】\n　おじょ～\n【イベント
 内容】\n　酒と仲間を味わう土曜のたまりBAR\n【イベン
 トジャンル】\n　その他交流会\, VR飲み会\, 店舗系イベ
 ント\, 音楽系イベント\, 初心者向けイベント\, 定期イ
 ベント\n【参加条件（モデル、人数制限など）】\n　他
 人に迷惑をかける行動をしないこと\n【参加方法】\n　g
 roup＋に参加！(グループは備考参照)\n【備考】\n　https:/
 /vrc.group/YABAI.7984
LOCATION:
END:VEVENT
END:VCALENDAR
