BEGIN:VCALENDAR
VERSION:2.0
PRODID:-//chikkutakku.com//RDFCal 1.0//EN
X-WR-CALDESC:GoogleカレンダーやiCalendar形式情報を共有シェ
 アしましょう。近所のイベントから全国のイベントま
 で今日のイベント検索やスケジュールを決めるならち
 っくたっく
X-WR-CALNAME:ちっくたっく
X-WR-TIMEZONE:UTC
BEGIN:VEVENT
SUMMARY:喫茶ペトリコール
DTSTART;VALUE=DATE-TIME:20260421T130000Z
DTEND;VALUE=DATE-TIME:20260421T140000Z
UID:325754482043
DESCRIPTION:【イベント主催者】\n　ひさぎ\n【イベント内
 容】\n　クラシカルなメイド・執事が貴方をもてなす喫
 茶店です。\n落ち着いた店内で、美味しい紅茶と使用人
 との会話をお楽しみください。\n\n※接客に関しては主
 にメイドが務めます。\n※詳しくは公式Xをご確認くだ
 さい。\n【イベントジャンル】\n　店舗系イベント\, ロ
 ールプレイ\, 定期イベント\n【参加条件（モデル、人数
 制限など）】\n　※日本語でのコミュニケーションが取
 れる方に限ります。\n※ペン・チャットで会話可能な無
 言勢の方は問題なくご来店いただけます。 \n\nー禁止事
 項ー\n・版権アバター\n・NSFWに該当するアバター及び改
 変\n・営業中のキャストへのフレンド申請\n・許可なき
 録画、録音、配信\n・キャスト/お客様への嫌がらせ、
 不快な発言等\n・その他、イベントを妨げると運営が判
 断した行為\n※上記の事項に違反した場合、BAN等の然る
 べき対応をさせていただく場合がございます。\n【参加
 方法】\n　①当日リクイン\n・「ひさぎ＃」へ21:55にリ
 クイン\n\n②事前抽選\n・公式Xのポストから抽選に参加\
 n【備考】\n　
LOCATION:
END:VEVENT
END:VCALENDAR
