BEGIN:VCALENDAR
VERSION:2.0
PRODID:-//chikkutakku.com//RDFCal 1.0//EN
X-WR-CALDESC:GoogleカレンダーやiCalendar形式情報を共有シェ
 アしましょう。近所のイベントから全国のイベントま
 で今日のイベント検索やスケジュールを決めるならち
 っくたっく
X-WR-CALNAME:ちっくたっく
X-WR-TIMEZONE:UTC
BEGIN:VEVENT
SUMMARY:仮)食糧配布
DTSTART;VALUE=DATE-TIME:20260430T200000Z
DTEND;VALUE=DATE-TIME:20260501T130000Z
UID:325792340006
DESCRIPTION:▼申込内容\n予約日時: 2026/03/25 20:29:06\nお名前
 　: 上原　晴太郎(すなめぐ)\n予約日　: 2026/05/01(金)\n予
 約時間: 5:00～22:00
LOCATION:
END:VEVENT
END:VCALENDAR
