BEGIN:VCALENDAR
VERSION:2.0
PRODID:-//chikkutakku.com//RDFCal 1.0//EN
X-WR-CALDESC:GoogleカレンダーやiCalendar形式情報を共有シェ
 アしましょう。近所のイベントから全国のイベントま
 で今日のイベント検索やスケジュールを決めるならち
 っくたっく
X-WR-CALNAME:ちっくたっく
X-WR-TIMEZONE:UTC
BEGIN:VEVENT
SUMMARY:とうちゃん
DTSTART;VALUE=DATE-TIME:20260424T150000Z
DTEND;VALUE=DATE-TIME:20260425T150000Z
UID:326056547463
DESCRIPTION:シングルマザーの彼女と結婚する男、そして
 彼女の息子の心の揺らぎを、繊細なタッチで描いた短
 編ヒューマンドラマ。\n\nシングルマザーの陽子とつき
 あう悠太は、初めて彼女のアパートに泊まった夜、陽
 子の息子・大介と時間を過ごす。悠太と陽子は結婚を
 決めたことを大介に伝え、大介も一見、それを受け入
 れてくれたように見えたが……。夏の終わり、新たな
 一歩を踏み出そうとする家族の一日を描く。\n\n出演は
 「いっちょらい」「GOLDFISH」の松林慎司、「王国（ある
 いはその家について）」「ピアニストを待ちながら」
 の澁谷麻美、「Good Luck My Road」の宙海。監督は「鰤の大
 晦日」など、オリジナルの短編作品を作り続けている
 西安健。第19回札幌国際短編映画祭のジャパン・プレミ
 ア部門で上映された。2025年にシアターギルド代官山ほ
 かで単独公開。2026年、西安監督の短編3作品を同時上映
 する「『とうちゃん』 『鰤の大晦日』 『風船の行方』
  西安健短編特集」でも劇場公開。\n作品紹介ページ：ht
 tps://eiga.com/movie/104007/
LOCATION:
END:VEVENT
END:VCALENDAR
