BEGIN:VCALENDAR
VERSION:2.0
PRODID:-//chikkutakku.com//RDFCal 1.0//EN
X-WR-CALDESC:GoogleカレンダーやiCalendar形式情報を共有シェ
 アしましょう。近所のイベントから全国のイベントま
 で今日のイベント検索やスケジュールを決めるならち
 っくたっく
X-WR-CALNAME:ちっくたっく
X-WR-TIMEZONE:UTC
BEGIN:VEVENT
SUMMARY:【Android 対応】jupiterを聴く会【#VRC_BUMP集会】
DTSTART;VALUE=DATE-TIME:20260425T120000Z
DTEND;VALUE=DATE-TIME:20260425T130000Z
UID:327171027118
DESCRIPTION:【イベント主催者】\n　msptma\n【イベント内容
 】\n　BUMP OF CHICKENの楽曲やMV、ライブやラジオ、メンバ
 ーに関してなど、BUMP OF CHICKENの様々なことをお話する
 集会です！\n今回はjupiter視聴回となります！楽曲のお
 話などしながらみんなで聴きましょう！\n【イベントジ
 ャンル】\n　その他交流会\n【参加条件（モデル、人数
 制限など）】\n　公序良俗をお守りください。\n極端な
 ダウンロードサイズやパフォーマンスに問題のあるア
 バター、音や激しいエフェクトなど他の参加者へのご
 迷惑となる行為はご遠慮ください。\n32人制限のインス
 タンスとなります。\n【参加方法】\n　以下のBUMP OF CHICK
 EN集会のグループにご参加ください。\nhttps://vrc.group/BUMP
 .1620\n時間になりましたら Group+ にてインスタンスを立
 てますのでJOINをお願いいたします。\n【備考】\n　各種
 不明点などございましたら、下記のイベントXアカウン
 トまでリプライまたはDMなどでお問い合わせください。
 \nXアカウント\nhttps://x.com/vrc_boc_meeting
LOCATION:
END:VEVENT
END:VCALENDAR
