BEGIN:VCALENDAR
VERSION:2.0
PRODID:-//chikkutakku.com//RDFCal 1.0//EN
X-WR-CALDESC:GoogleカレンダーやiCalendar形式情報を共有シェ
 アしましょう。近所のイベントから全国のイベントま
 で今日のイベント検索やスケジュールを決めるならち
 っくたっく
X-WR-CALNAME:ちっくたっく
X-WR-TIMEZONE:UTC
BEGIN:VEVENT
SUMMARY:魔女と毒殺文芸部　Curse.02　【不足】の天使は僕
 に心を埋めてほしいようです。
DTSTART;VALUE=DATE:20260423
DTEND;VALUE=DATE:20260424
UID:327444881127
DESCRIPTION:2026-04-24魔女と毒殺文芸部　Curse.02　【不足】
 の天使は僕に心を埋めてほしいようです。最条　真/Luna
 KADOKAWA
LOCATION:
END:VEVENT
END:VCALENDAR
