BEGIN:VCALENDAR
VERSION:2.0
PRODID:-//chikkutakku.com//RDFCal 1.0//EN
X-WR-CALDESC:GoogleカレンダーやiCalendar形式情報を共有シェ
 アしましょう。近所のイベントから全国のイベントま
 で今日のイベント検索やスケジュールを決めるならち
 っくたっく
X-WR-CALNAME:ちっくたっく
X-WR-TIMEZONE:UTC
BEGIN:VEVENT
SUMMARY:C- School Rehearsal 
DTSTART;VALUE=DATE-TIME:20260420T204500Z
DTEND;VALUE=DATE-TIME:20260420T214500Z
UID:327631788118
DESCRIPTION:Requested by Casey S. Via email on 4/17/26 MV
LOCATION:
END:VEVENT
END:VCALENDAR
