BEGIN:VCALENDAR
VERSION:2.0
PRODID:-//chikkutakku.com//RDFCal 1.0//EN
X-WR-CALDESC:GoogleカレンダーやiCalendar形式情報を共有シェ
 アしましょう。近所のイベントから全国のイベントま
 で今日のイベント検索やスケジュールを決めるならち
 っくたっく
X-WR-CALNAME:ちっくたっく
X-WR-TIMEZONE:UTC
BEGIN:VEVENT
SUMMARY:R22 PE
DTSTART;VALUE=DATE-TIME:20260506T220000Z
DTEND;VALUE=DATE-TIME:20260506T224500Z
UID:328230837470
DESCRIPTION:通过 Google Meet 加入：https://meet.google.com/dfa-fywe-a
 uv\n或者拨打以下号码：(NZ) +64 4 889 5173 PIN 码： 759090651#\n
 更多电话号码: https://tel.meet/dfa-fywe-auv?pin=9904257051925&hs=7\n
 \n如需详细了解 Google Meet，请访问：https://support.google.com/
 a/users/answer/9282720
LOCATION:St Heliers School-G-Soft Turf 1(far) (100)\, St Heliers School-G-
 Soft Turf 2(middle) (100)
END:VEVENT
END:VCALENDAR
