BEGIN:VCALENDAR
VERSION:2.0
PRODID:-//chikkutakku.com//RDFCal 1.0//EN
X-WR-CALDESC:GoogleカレンダーやiCalendar形式情報を共有シェ
 アしましょう。近所のイベントから全国のイベントま
 で今日のイベント検索やスケジュールを決めるならち
 っくたっく
X-WR-CALNAME:ちっくたっく
X-WR-TIMEZONE:UTC
BEGIN:VEVENT
SUMMARY:雑用付与術師が自分の最強に気付くまで（11）
DTSTART;VALUE=DATE:20260429
DTEND;VALUE=DATE:20260430
UID:328415352989
DESCRIPTION:2026-04-30雑用付与術師が自分の最強に気付くま
 で（11）アラカワシン/戸倉儚双葉社
LOCATION:
END:VEVENT
END:VCALENDAR
