BEGIN:VCALENDAR
VERSION:2.0
PRODID:-//chikkutakku.com//RDFCal 1.0//EN
X-WR-CALDESC:GoogleカレンダーやiCalendar形式情報を共有シェ
 アしましょう。近所のイベントから全国のイベントま
 で今日のイベント検索やスケジュールを決めるならち
 っくたっく
X-WR-CALNAME:ちっくたっく
X-WR-TIMEZONE:UTC
BEGIN:VEVENT
SUMMARY:【Android 対応】いけばな体験会
DTSTART;VALUE=DATE-TIME:20260428T130000Z
DTEND;VALUE=DATE-TIME:20260428T140000Z
UID:328696884830
DESCRIPTION:【イベント主催者】\n　たけや(Takeya)\n【イベ
 ント内容】\n　お花をいけて自分だけの＜いけばな＞を
 作ってみよう！\n教えてくれるのはなんと実際の華道家
 の先生\nVRならではのQvPenを使ったりお花を飾る場所も
 自由自在\n日本の伝統を気軽に体験してみませんか？\n
 【イベントジャンル】\n　定期イベント\n【参加条件（
 モデル、人数制限など）】\n　華道、生け花に興味関心
 ある方\n【参加方法】\n　たけや(Takeya)orグループ(FLOWER.5
 049)にjoin\n【備考】\n　未経験初心者さんも初めに説明
 するので安心
LOCATION:
END:VEVENT
END:VCALENDAR
