BEGIN:VCALENDAR
VERSION:2.0
PRODID:-//chikkutakku.com//RDFCal 1.0//EN
X-WR-CALDESC:GoogleカレンダーやiCalendar形式情報を共有シェ
 アしましょう。近所のイベントから全国のイベントま
 で今日のイベント検索やスケジュールを決めるならち
 っくたっく
X-WR-CALNAME:ちっくたっく
X-WR-TIMEZONE:UTC
BEGIN:VEVENT
SUMMARY:不動産売買の税金で損をしない最強ガイド
DTSTART;VALUE=DATE:20260516
DTEND;VALUE=DATE:20260517
UID:328802505732
DESCRIPTION:2026-05-17不動産売買の税金で損をしない最強ガ
 イド弓家田 良彦/松田 暁子アニモ出版
LOCATION:
END:VEVENT
END:VCALENDAR
