BEGIN:VCALENDAR
VERSION:2.0
PRODID:-//chikkutakku.com//RDFCal 1.0//EN
X-WR-CALDESC:GoogleカレンダーやiCalendar形式情報を共有シェ
 アしましょう。近所のイベントから全国のイベントま
 で今日のイベント検索やスケジュールを決めるならち
 っくたっく
X-WR-CALNAME:ちっくたっく
X-WR-TIMEZONE:UTC
BEGIN:VEVENT
SUMMARY:B五峡(小4~6)お休み
DTSTART;VALUE=DATE:20260503
DTEND;VALUE=DATE:20260504
UID:329751012499
DESCRIPTION:祭日の為お休み小4～6年生対象１８：３０～１
 ９：５０
LOCATION:東京都荒川区町屋３丁目１７−２４
END:VEVENT
END:VCALENDAR
