BEGIN:VCALENDAR
VERSION:2.0
PRODID:-//chikkutakku.com//RDFCal 1.0//EN
X-WR-CALDESC:GoogleカレンダーやiCalendar形式情報を共有シェ
 アしましょう。近所のイベントから全国のイベントま
 で今日のイベント検索やスケジュールを決めるならち
 っくたっく
X-WR-CALNAME:ちっくたっく
X-WR-TIMEZONE:UTC
BEGIN:VEVENT
SUMMARY:13:00Bigfumi
DTSTART;VALUE=DATE:20260424
DTEND;VALUE=DATE:20260425
UID:329934474237
DESCRIPTION:「Bigfumi」ミニLIVE＆特典会を開催！！当日17:30
 よりヨドバシ梅田1階 阪急側\n13:00/15:00
LOCATION:
END:VEVENT
END:VCALENDAR
