BEGIN:VCALENDAR
VERSION:2.0
PRODID:-//chikkutakku.com//RDFCal 1.0//EN
X-WR-CALDESC:GoogleカレンダーやiCalendar形式情報を共有シェ
 アしましょう。近所のイベントから全国のイベントま
 で今日のイベント検索やスケジュールを決めるならち
 っくたっく
X-WR-CALNAME:ちっくたっく
X-WR-TIMEZONE:UTC
BEGIN:VEVENT
SUMMARY:【ゲーム好きな方向け雑談イベント】VRChat Gamer's 
 Guild
DTSTART;VALUE=DATE-TIME:20260423T130000Z
DTEND;VALUE=DATE-TIME:20260423T140000Z
UID:329965399265
DESCRIPTION:【イベント主催者】\n　pavlov3nya\n【イベント内
 容】\n　ゲーム好きな方向け雑談イベント\nグループプ
 ラスインスタンスにて開催予定です\nグループに参加し
 てぜひお越しください！\nhttps://vrc.group/VGG.9529\n\nX(twitter
 )：https://x.com/VRC_GamersGuild\nハッシュタグ：#VRC_VGG\n\n∗∗
 話題について∗∗\nゲームに関連した話題以外も雑談OK
 です\n話す内容に困ったら本日のテーマや話題サイコロ
 をお使いください\n公序良俗に反する内容がメインのゲ
 ームの話題はお控えください\n\n∗∗発言について∗∗\
 nネタバレを含む発言は事前に相手へ確認を取りましょ
 う\n周りの声が気になる時はイヤーマフモードを使用し
 てください\n（イヤーマフモード設定がわからない場合
 はスタッフへ）\n【イベントジャンル】\n　その他交流
 会\, 初心者向けイベント\, 定期イベント\n【参加条件（
 モデル、人数制限など）】\n　最大1インスタンス 30名\n
 - 無言OK、聞き専OK\n- ゲームについて語りたい人\n- 語り
 を聞きたい人\n- 基本ルールを守ることができる人\n\n∗
 ∗基本ルールについて∗∗\n基本のマナーを守って楽し
 く雑談しましょう\n下記行為はご遠慮ください\n- 迷惑
 行為や攻撃的な言動、勧誘、つきまとい行為\n- 公序良
 俗に反するアバターや視界ジャック\n- 過度なパーティ
 クル、騒音、頻繁なアバターチェンジ\n- スタッフへの
 イベント中のフレンド申請\n\n∗∗配信・録画・撮影に
 ついて∗∗\n- スタッフが撮影させていただいた画像は\
 n  広報に使用させていただく可能性があります\n- 許可
 なく配信や録画はお控えください\n  事前に主催もしく
 はスタッフにお問い合わせください\n【参加方法】\n　
 グループ https://vrc.group/VGG.9529 に入っていただき(+ Join Gr
 oup)、\n当日グループインスタンスにお越しください\n【
 備考】\n　https://x.com/VRC_GamersGuild/status/2034138777917210743?s=2
 0
LOCATION:
END:VEVENT
END:VCALENDAR
