BEGIN:VCALENDAR
VERSION:2.0
PRODID:-//chikkutakku.com//RDFCal 1.0//EN
X-WR-CALDESC:GoogleカレンダーやiCalendar形式情報を共有シェ
 アしましょう。近所のイベントから全国のイベントま
 で今日のイベント検索やスケジュールを決めるならち
 っくたっく
X-WR-CALNAME:ちっくたっく
X-WR-TIMEZONE:UTC
BEGIN:VEVENT
SUMMARY:(นพ.สสจ)เชิญประชุมติดตาม
 ผลการดำเนินงานตามนโยบายก
 ระทรวงสาธารณสุข(TMM) ประจำปี
 งบประมาณ2569
DTSTART;VALUE=DATE-TIME:20260421T023000Z
DTEND;VALUE=DATE-TIME:20260421T033000Z
UID:330269776138
DESCRIPTION:http://ictmoph.webex.com/.ictmoph/j.php?MTID=m188e81151e930423
 1bb79924bc4415a3\n\n通过 Google Meet 加入：https://meet.google.com/cy
 v-jted-ocf\n\n如需详细了解 Google Meet，请访问：https://support
 .google.com/a/users/answer/9282720
LOCATION:Meeting number : 25125534368 Password:0809
END:VEVENT
END:VCALENDAR
