BEGIN:VCALENDAR
VERSION:2.0
PRODID:-//chikkutakku.com//RDFCal 1.0//EN
X-WR-CALDESC:GoogleカレンダーやiCalendar形式情報を共有シェ
 アしましょう。近所のイベントから全国のイベントま
 で今日のイベント検索やスケジュールを決めるならち
 っくたっく
X-WR-CALNAME:ちっくたっく
X-WR-TIMEZONE:UTC
BEGIN:VEVENT
SUMMARY:・カセットコンロ1台 ・ホットプレート1台 ・ミ
 ニバケツ4個 ・剪定ばさみ4本    藤田智子
DTSTART;VALUE=DATE-TIME:20260524T040000Z
DTEND;VALUE=DATE-TIME:20260524T070000Z
UID:330416020581
DESCRIPTION:使用日：5月24日【使用目的】　スキルアップ
 のため
LOCATION:
END:VEVENT
END:VCALENDAR
