BEGIN:VCALENDAR
VERSION:2.0
PRODID:-//chikkutakku.com//RDFCal 1.0//EN
X-WR-CALDESC:GoogleカレンダーやiCalendar形式情報を共有シェ
 アしましょう。近所のイベントから全国のイベントま
 で今日のイベント検索やスケジュールを決めるならち
 っくたっく
X-WR-CALNAME:ちっくたっく
X-WR-TIMEZONE:UTC
BEGIN:VEVENT
SUMMARY:Metropolitan Consecration of HE Mor Julius Abdelahad Shabo
DTSTART;VALUE=DATE-TIME:20260502T183000Z
DTEND;VALUE=DATE-TIME:20260503T183000Z
UID:330627802255
DESCRIPTION:HE Mor Julius Abdelahad Shabo\, Metropolitan of Sweden and Sca
 ndinavia was consecrated on May 3rd 1987 by late HH Mor Ignatius Zakka I I
 was
LOCATION:
END:VEVENT
END:VCALENDAR
