BEGIN:VCALENDAR
VERSION:2.0
PRODID:-//chikkutakku.com//RDFCal 1.0//EN
X-WR-CALDESC:GoogleカレンダーやiCalendar形式情報を共有シェ
 アしましょう。近所のイベントから全国のイベントま
 で今日のイベント検索やスケジュールを決めるならち
 っくたっく
X-WR-CALNAME:ちっくたっく
X-WR-TIMEZONE:UTC
BEGIN:VEVENT
SUMMARY:【新竹】5/7 (四) 「AI高效思考術：與人工智慧協作
 ，打造高效工作流」
DTSTART;VALUE=DATE-TIME:20260506T160000Z
DTEND;VALUE=DATE-TIME:20260507T155959Z
UID:330816380495
DESCRIPTION:【新竹】5/7 (四) 「AI高效思考術：與人工智慧
 協作，打造高效工作流」
LOCATION:
END:VEVENT
END:VCALENDAR
