BEGIN:VCALENDAR
VERSION:2.0
PRODID:-//chikkutakku.com//RDFCal 1.0//EN
X-WR-CALDESC:GoogleカレンダーやiCalendar形式情報を共有シェ
 アしましょう。近所のイベントから全国のイベントま
 で今日のイベント検索やスケジュールを決めるならち
 っくたっく
X-WR-CALNAME:ちっくたっく
X-WR-TIMEZONE:UTC
BEGIN:VEVENT
SUMMARY:BANGER ROOM vol.4 DnB only回
DTSTART;VALUE=DATE-TIME:20260425T120000Z
DTEND;VALUE=DATE-TIME:20260425T140000Z
UID:331183076100
DESCRIPTION:【イベント主催者】\n　しゃかりこ\n【イベン
 ト内容】\n　出演者　激まんじゅう殿下、しゃかりこ、
 音葉せらむ\n【イベントジャンル】\n　音楽系イベント\
 n【参加条件（モデル、人数制限など）】\n　\n【参加方
 法】\n　グループより参加\nhttps://vrc.group/BANGER.3472/\n【
 備考】\n　
LOCATION:
END:VEVENT
END:VCALENDAR
