BEGIN:VCALENDAR
VERSION:2.0
PRODID:-//chikkutakku.com//RDFCal 1.0//EN
X-WR-CALDESC:GoogleカレンダーやiCalendar形式情報を共有シェ
 アしましょう。近所のイベントから全国のイベントま
 で今日のイベント検索やスケジュールを決めるならち
 っくたっく
X-WR-CALNAME:ちっくたっく
X-WR-TIMEZONE:UTC
BEGIN:VEVENT
SUMMARY:ประชุม วิชาการ
DTSTART;VALUE=DATE-TIME:20260421T020000Z
DTEND;VALUE=DATE-TIME:20260421T093000Z
UID:331283902034
DESCRIPTION:ประชุม วิชาการ
LOCATION:ราชพฤกษ์1
END:VEVENT
END:VCALENDAR
