BEGIN:VCALENDAR
VERSION:2.0
PRODID:-//chikkutakku.com//RDFCal 1.0//EN
X-WR-CALDESC:GoogleカレンダーやiCalendar形式情報を共有シェ
 アしましょう。近所のイベントから全国のイベントま
 で今日のイベント検索やスケジュールを決めるならち
 っくたっく
X-WR-CALNAME:ちっくたっく
X-WR-TIMEZONE:UTC
BEGIN:VEVENT
SUMMARY:【Android 対応】ボードゲームを遊ぼう！
DTSTART;VALUE=DATE-TIME:20260423T120000Z
DTEND;VALUE=DATE-TIME:20260423T130000Z
UID:331379064075
DESCRIPTION:【イベント主催者】\n　瀬名川観測所/senagawa\n
 【イベント内容】\n　ボードゲーム「テレストレーショ
 ン」風のゲームを遊ぶよ！　ルールを説明後、プレイ
 人数ごとに別々のインスタンスに分かれてゲームして
 解散だ！　このイベントは毎週木曜日に行っていて、
 少なくとも第1・3木曜日はクエスト対応のワールドだよ
 ！\n\n【イベントジャンル】\n　その他交流会\, 定期イ
 ベント\n【参加条件（モデル、人数制限など）】\n　\n
 【参加方法】\n　Group+でインスタンスを作るので、グル
 ープ「ボードゲームを遊ぼう！(https://vrc.group/BDG.5458)」
 に入っておくか、参加しているフレンドを見つけてJoin
 してね！\n【備考】\n　ルール説明:10分 プレイ時間:30分
 ぐらいを見込んでるけど、あまりボドゲしない人なら
 もっとかかるかも！\nhttps://twitter.com/sng1007a/status/169654203
 5535441977
LOCATION:
END:VEVENT
END:VCALENDAR
