BEGIN:VCALENDAR
VERSION:2.0
PRODID:-//chikkutakku.com//RDFCal 1.0//EN
X-WR-CALDESC:GoogleカレンダーやiCalendar形式情報を共有シェ
 アしましょう。近所のイベントから全国のイベントま
 で今日のイベント検索やスケジュールを決めるならち
 っくたっく
X-WR-CALNAME:ちっくたっく
X-WR-TIMEZONE:UTC
BEGIN:VEVENT
SUMMARY:【注】響け！ユーフォニアム3 #1 あらたなユーフ
 ォニアム / #2 さんかくシンコペーション / #3 みずいろ
 プレリュード / #4 きみとのエチュード / #5 ふたりでト
 ワイライト / #6 ゆらぎのディゾナンス / #7 なついろフ
 ェルマータ / #8 なやめるオスティナート / #9 ちぐはぐ
 チューニング / #10 つたえるアルペジオ / #11 みらいへオ
 ーケストラ / #12 さいごのソリスト / #13 つながるメロデ
 ィ
DTSTART;VALUE=DATE-TIME:20260425T135500Z
DTEND;VALUE=DATE-TIME:20260425T201500Z
UID:332228054299
DESCRIPTION: / #1 あらたなユーフォニアム / #2 さんかくシ
 ンコペーション / #3 みずいろプレリュード / #4 きみと
 のエチュード / #5 ふたりでトワイライト / #6 ゆらぎの
 ディゾナンス / #7 なついろフェルマータ / #8 なやめる
 オスティナート / #9 ちぐはぐチューニング / #10 つたえ
 るアルペジオ / #11 みらいへオーケストラ / #12 さいごの
 ソリスト / #13 つながるメロディ / ([[アニメSPECIAL https://
 abema.tv/timetable/channels/special-plus-7]]) https://abema.tv/channels/sp
 ecial-plus-7/slots/EvABNjyQo85THh リピート放送は 4/26(日) 16:35～
  https://abema.tv/channels/special-plus-7/slots/EvABP2nx8r3efq (無料TS1
 週間) https://prtimes.jp/main/html/rd/p/000003116.000064643.html
LOCATION:ABEMA特設その他
END:VEVENT
END:VCALENDAR
