BEGIN:VCALENDAR
VERSION:2.0
PRODID:-//chikkutakku.com//RDFCal 1.0//EN
X-WR-CALDESC:GoogleカレンダーやiCalendar形式情報を共有シェ
 アしましょう。近所のイベントから全国のイベントま
 で今日のイベント検索やスケジュールを決めるならち
 っくたっく
X-WR-CALNAME:ちっくたっく
X-WR-TIMEZONE:UTC
BEGIN:VEVENT
SUMMARY:【Android 対応】【精神疾患当事者向け】AshaLounge第
 1回定期集会
DTSTART;VALUE=DATE-TIME:20260424T130000Z
DTEND;VALUE=DATE-TIME:20260424T140000Z
UID:332684117630
DESCRIPTION:【イベント主催者】\n　はねっこinc\n【イベン
 ト内容】\n　精神疾患当事者のための情報交換交流ワー
 ルド【Asha Lounge】の定期集会として、ゆるやかな交流イ
 ベントを行います。途中入退室ＯＫ\n【イベントジャン
 ル】\n　定期イベント\n【参加条件（モデル、人数制限
 など）】\n　軽めのアバターでお越しください\n【参加
 方法】\n　グループに入ってグループインスタンスに参
 加\n【備考】\n　Twitter：https://x.com/AshaLounge\nグループ：v
 rc.group/ASHA.9358\nワールド：https://vrchat.com/home/launch?worldId=
 wrld_88441913-bb63-43b6-95e2-eebc614a9b98
LOCATION:
END:VEVENT
END:VCALENDAR
