BEGIN:VCALENDAR
VERSION:2.0
PRODID:-//chikkutakku.com//RDFCal 1.0//EN
X-WR-CALDESC:GoogleカレンダーやiCalendar形式情報を共有シェ
 アしましょう。近所のイベントから全国のイベントま
 で今日のイベント検索やスケジュールを決めるならち
 っくたっく
X-WR-CALNAME:ちっくたっく
X-WR-TIMEZONE:UTC
BEGIN:VEVENT
SUMMARY:【注】転生したらドラゴンの卵だった #1 転生し
 たら卵だった / #2 勇気を出したら嫌われた / #3 進化し
 たら快適だった / #4 ツボかと思ったらカメだった / #5 
 毒女かと思ったらヨメだった / #6 人間になったらシバ
 かれた / #7 デートに行ったら放置された / #8 考えたら
 名前なかった / #9 村に行ったら修羅場だった / #10 進化
 したら邪竜だった / #11 見かけたら黒幕だった / #12 空を
 見上げたら勇者だった
DTSTART;VALUE=DATE-TIME:20260420T230000Z
DTEND;VALUE=DATE-TIME:20260421T050000Z
UID:332759478856
DESCRIPTION: / #1 転生したら卵だった / #2 勇気を出したら
 嫌われた / #3 進化したら快適だった / #4 ツボかと思っ
 たらカメだった / #5 毒女かと思ったらヨメだった / #6 
 人間になったらシバかれた / #7 デートに行ったら放置
 された / #8 考えたら名前なかった / #9 村に行ったら修
 羅場だった / #10 進化したら邪竜だった / #11 見かけたら
 黒幕だった / #12 空を見上げたら勇者だった / ([[異世界
 ・ファンタジー3 https://abema.tv/timetable/channels/isekai-anime-3]
 ]) https://abema.tv/channels/isekai-anime-3/slots/AkN7YqFUs21Nuu リピー
 ト放送は 20:00～ https://abema.tv/channels/isekai-anime-3/slots/EvABQ
 ZHUrvdFHR (無料TS1週間)
LOCATION:ABEMA特設その他
END:VEVENT
END:VCALENDAR
