BEGIN:VCALENDAR
VERSION:2.0
PRODID:-//chikkutakku.com//RDFCal 1.0//EN
X-WR-CALDESC:GoogleカレンダーやiCalendar形式情報を共有シェ
 アしましょう。近所のイベントから全国のイベントま
 で今日のイベント検索やスケジュールを決めるならち
 っくたっく
X-WR-CALNAME:ちっくたっく
X-WR-TIMEZONE:UTC
BEGIN:VEVENT
SUMMARY:【キャバクラ】Miroir Vail
DTSTART;VALUE=DATE-TIME:20260422T125000Z
DTEND;VALUE=DATE-TIME:20260422T135500Z
UID:332787918421
DESCRIPTION:【イベント主催者】\n　結咲/けつざき\n【イベ
 ント内容】\n　【第一部：キャバクラ】\nひとりのキャ
 ストがホストとキャバクラ風の接客をする"二面性"をテ
 ーマにした1:1接客VRChatイベント\n【イベントジャンル】
 \n　店舗系イベント\n【参加条件（モデル、人数制限な
 ど）】\n　・未成年（高校生以下）の来店は禁止\n・録
 音、録画配信禁止\n・版権アバターの禁止\n・過度なパ
 ーティクルや音の出るアバターの禁止\n・アバターサイ
 ズが50MB以下\n・イベント中フレンド申請禁止\n・NSFWに
 関する行為の禁止\n・お客様からの接触は禁止\n・荒ら
 し行為、誹謗中傷嫌がらせ行為の禁止\n・イベント中の
 勧誘行為の禁止\n※その他運営スタッフの指示・案内を
 ご理解いただけない場合、以後の利用をお断りする（
 ご退店いただく）場合がございます。\n【参加方法】\n
 　グループ（https://vrchat.com/home/group/grp_aacd69e0-6b35-4c98-a02
 8-6be07a677bbe ）に参加しグループインスタンスへジョイ
 ン\n【備考】\n　↓↓↓イベントXはこちら↓↓↓\nhttps:/
 /x.com/MiroirVail_vrc
LOCATION:
END:VEVENT
END:VCALENDAR
