BEGIN:VCALENDAR
VERSION:2.0
PRODID:-//chikkutakku.com//RDFCal 1.0//EN
X-WR-CALDESC:GoogleカレンダーやiCalendar形式情報を共有シェ
 アしましょう。近所のイベントから全国のイベントま
 で今日のイベント検索やスケジュールを決めるならち
 っくたっく
X-WR-CALNAME:ちっくたっく
X-WR-TIMEZONE:UTC
BEGIN:VEVENT
SUMMARY:日本三國 #3 「朝議」
DTSTART;VALUE=DATE-TIME:20260421T113000Z
DTEND;VALUE=DATE-TIME:20260421T120000Z
UID:333555833418
DESCRIPTION:3 / 朝議 / 
LOCATION:AT-X
END:VEVENT
END:VCALENDAR
