BEGIN:VCALENDAR
VERSION:2.0
PRODID:-//chikkutakku.com//RDFCal 1.0//EN
X-WR-CALDESC:GoogleカレンダーやiCalendar形式情報を共有シェ
 アしましょう。近所のイベントから全国のイベントま
 で今日のイベント検索やスケジュールを決めるならち
 っくたっく
X-WR-CALNAME:ちっくたっく
X-WR-TIMEZONE:UTC
BEGIN:VEVENT
SUMMARY:ラスボス系悪役令息が望むのは、原作通りの没落
 ルート
DTSTART;VALUE=DATE:20260430
DTEND;VALUE=DATE:20260501
UID:333764829501
DESCRIPTION:2026-05-01ラスボス系悪役令息が望むのは、原作
 通りの没落ルート司馬犬/峰星 ふるKADOKAWA
LOCATION:
END:VEVENT
END:VCALENDAR
