BEGIN:VCALENDAR
VERSION:2.0
PRODID:-//chikkutakku.com//RDFCal 1.0//EN
X-WR-CALDESC:GoogleカレンダーやiCalendar形式情報を共有シェ
 アしましょう。近所のイベントから全国のイベントま
 で今日のイベント検索やスケジュールを決めるならち
 っくたっく
X-WR-CALNAME:ちっくたっく
X-WR-TIMEZONE:UTC
BEGIN:VEVENT
SUMMARY:【115年第2梯次】即測即評及發證檢定-受理報名 
DTSTART;VALUE=DATE-TIME:20260423T010000Z
DTEND;VALUE=DATE-TIME:20260423T083000Z
UID:334709295140
DESCRIPTION:【115年第2梯次】即測即評及發證檢定-受理報名
  \n\n報名日期：04月21日(二)～ 04 月23 日(四) \n報名時間
 ：09:00-12:00／13:30-16:30(中午不收件) \n報名地點：※技高
 部行政辦公室 \n\n 《辦理職類》\n ▲  學科_含免術(乙
 .丙.單一級）\n =報名費340元\n\n ▲  丙級_電腦硬體裝修
 (限制人數：120人)\n =報名費1570元\n\n ▲  丙級_會計事
 務-資訊(限制人數：200人) \n=報名費1020元　 \n\n學科承
 辦：黃若蘋 \n術科承辦：黃乙庭、邱琬茹\n\n通过 Google M
 eet 加入：https://meet.google.com/mat-kota-txq\n或者拨打以下号
 码：(US) +1 567-978-0142 PIN 码： 518072483#\n\n如需详细了解 Goo
 gle Meet，请访问：https://support.google.com/a/users/answer/9282720
LOCATION:輸智3樓-技高部行政辦公室
END:VEVENT
END:VCALENDAR
