BEGIN:VCALENDAR
VERSION:2.0
PRODID:-//chikkutakku.com//RDFCal 1.0//EN
X-WR-CALDESC:GoogleカレンダーやiCalendar形式情報を共有シェ
 アしましょう。近所のイベントから全国のイベントま
 で今日のイベント検索やスケジュールを決めるならち
 っくたっく
X-WR-CALNAME:ちっくたっく
X-WR-TIMEZONE:UTC
BEGIN:VEVENT
SUMMARY:【Android 対応】第93回【 PvP.PvE】カジュサバ！【初
 心者歓迎】
DTSTART;VALUE=DATE-TIME:20260422T130000Z
DTEND;VALUE=DATE-TIME:20260422T140000Z
UID:335091663607
DESCRIPTION:【イベント主催者】\n　-leon-レオン-\n【イベン
 ト内容】\n　今回はこちらの World 【BABELǃ by Linx（リン
 クス） 】 Worldを使用させていただきPvPバトルをしたい
 と思います！\nご参加お待ちしてます！\n【イベントジ
 ャンル】\n　その他交流会\, 初心者向けイベント\, 定期
 イベント\n【参加条件（モデル、人数制限など）】\n　
 インスタンス人数まで\n【参加方法】\n　参加方法\n下
 記グループに参加よろしくお願いします！\n↓グループ
 リンク↓\nhttps://vrc.group/SABA.8497\n\n【備考】\n　
LOCATION:
END:VEVENT
END:VCALENDAR
