BEGIN:VCALENDAR
VERSION:2.0
PRODID:-//chikkutakku.com//RDFCal 1.0//EN
X-WR-CALDESC:GoogleカレンダーやiCalendar形式情報を共有シェ
 アしましょう。近所のイベントから全国のイベントま
 で今日のイベント検索やスケジュールを決めるならち
 っくたっく
X-WR-CALNAME:ちっくたっく
X-WR-TIMEZONE:UTC
BEGIN:VEVENT
SUMMARY:てっぺんの向こうにあなたがいる 豪華版【Blu-ray
 】
DTSTART;VALUE=DATE:20260519
DTEND;VALUE=DATE:20260520
UID:336135705641
DESCRIPTION:2026-05-20てっぺんの向こうにあなたがいる 豪華
 版【Blu-ray】吉永小百合/のん/木村文乃/若葉竜也/工藤阿
 須加/茅島みずき/阪本順治/安川午朗(株)キノフィルムズ
 、木下グループ
LOCATION:
END:VEVENT
END:VCALENDAR
