BEGIN:VCALENDAR
VERSION:2.0
PRODID:-//chikkutakku.com//RDFCal 1.0//EN
X-WR-CALDESC:GoogleカレンダーやiCalendar形式情報を共有シェ
 アしましょう。近所のイベントから全国のイベントま
 で今日のイベント検索やスケジュールを決めるならち
 っくたっく
X-WR-CALNAME:ちっくたっく
X-WR-TIMEZONE:UTC
BEGIN:VEVENT
SUMMARY:デジモンアドベンチャー #16 「暗黒進化！スカル
 グレイモン」
DTSTART;VALUE=DATE-TIME:20260421T080000Z
DTEND;VALUE=DATE-TIME:20260421T083000Z
UID:336480347446
DESCRIPTION:16 / 暗黒進化！スカルグレイモン / 
LOCATION:チバテレビ
END:VEVENT
END:VCALENDAR
