BEGIN:VCALENDAR
VERSION:2.0
PRODID:-//chikkutakku.com//RDFCal 1.0//EN
X-WR-CALDESC:GoogleカレンダーやiCalendar形式情報を共有シェ
 アしましょう。近所のイベントから全国のイベントま
 で今日のイベント検索やスケジュールを決めるならち
 っくたっく
X-WR-CALNAME:ちっくたっく
X-WR-TIMEZONE:UTC
BEGIN:VEVENT
SUMMARY:介護実習指導 Ⅱ
DTSTART;VALUE=DATE-TIME:20260422T051000Z
DTEND;VALUE=DATE-TIME:20260422T064000Z
UID:336608271084
DESCRIPTION:(委員会) 306.402.403
LOCATION:
END:VEVENT
END:VCALENDAR
