BEGIN:VCALENDAR
VERSION:2.0
PRODID:-//chikkutakku.com//RDFCal 1.0//EN
X-WR-CALDESC:GoogleカレンダーやiCalendar形式情報を共有シェ
 アしましょう。近所のイベントから全国のイベントま
 で今日のイベント検索やスケジュールを決めるならち
 っくたっく
X-WR-CALNAME:ちっくたっく
X-WR-TIMEZONE:UTC
BEGIN:VEVENT
SUMMARY:【注】忍者と殺し屋のふたりぐらし #1 忍者と殺
 し屋の出会い / #2 忍者と殺し屋の日常 / #3 忍者と殺し
 屋のお仕事 / #4 忍者と殺し屋の関係 / #5 ロボットと殺
 し屋のふたりぐらし / #6 巨乳と殺し屋のふたりぐらし /
  #7 殺し屋とクラスメイトのおともだち / #8 忍者と殺し
 屋の大きなおうち / #9 忍者と殺し屋と実験 / #10 忍者と
 殺し屋の赤ちゃん / #11 忍者と殺し屋の大ピンチ / #12 忍
 者と殺し屋のふたりぐらし
DTSTART;VALUE=DATE-TIME:20260422T110000Z
DTEND;VALUE=DATE-TIME:20260422T170000Z
UID:337297609118
DESCRIPTION: / #1 忍者と殺し屋の出会い / #2 忍者と殺し屋
 の日常 / #3 忍者と殺し屋のお仕事 / #4 忍者と殺し屋の
 関係 / #5 ロボットと殺し屋のふたりぐらし / #6 巨乳と
 殺し屋のふたりぐらし / #7 殺し屋とクラスメイトのお
 ともだち / #8 忍者と殺し屋の大きなおうち / #9 忍者と
 殺し屋と実験 / #10 忍者と殺し屋の赤ちゃん / #11 忍者と
 殺し屋の大ピンチ / #12 忍者と殺し屋のふたりぐらし / h
 ttps://abema.tv/channels/dailylife-anime/slots/Ah77nKQ9gS2GZD リピート
 放送は 26:00～ https://abema.tv/channels/dailylife-anime/slots/AkN7a3s
 prs15JP 、4/23(木) 14:00～ https://abema.tv/channels/dailylife-anime/sl
 ots/AkN7aen5YhMKXm (無料TS2週間)
LOCATION:日常青春アニメ
END:VEVENT
END:VCALENDAR
