BEGIN:VCALENDAR
VERSION:2.0
PRODID:-//chikkutakku.com//RDFCal 1.0//EN
X-WR-CALDESC:GoogleカレンダーやiCalendar形式情報を共有シェ
 アしましょう。近所のイベントから全国のイベントま
 で今日のイベント検索やスケジュールを決めるならち
 っくたっく
X-WR-CALNAME:ちっくたっく
X-WR-TIMEZONE:UTC
BEGIN:VEVENT
SUMMARY:Johnson Fashion Show (3)
DTSTART;VALUE=DATE-TIME:20260424T000000Z
DTEND;VALUE=DATE-TIME:20260424T013000Z
UID:338318665274
DESCRIPTION:Johnson Fashion Show (3)
LOCATION:Auditorium
END:VEVENT
END:VCALENDAR
