BEGIN:VCALENDAR
VERSION:2.0
PRODID:-//chikkutakku.com//RDFCal 1.0//EN
X-WR-CALDESC:GoogleカレンダーやiCalendar形式情報を共有シェ
 アしましょう。近所のイベントから全国のイベントま
 で今日のイベント検索やスケジュールを決めるならち
 っくたっく
X-WR-CALNAME:ちっくたっく
X-WR-TIMEZONE:UTC
BEGIN:VEVENT
SUMMARY:福田：ドローン、自動運転
DTSTART;VALUE=DATE:20260520
DTEND;VALUE=DATE:20260523
UID:338613261350
DESCRIPTION:2025国际低空经济与无人系统博览会、2025（第十
 届）深圳国际无人机展览会、2025自动驾驶与无人车技术
 展览会
LOCATION:
END:VEVENT
END:VCALENDAR
