BEGIN:VCALENDAR
VERSION:2.0
PRODID:-//chikkutakku.com//RDFCal 1.0//EN
X-WR-CALDESC:GoogleカレンダーやiCalendar形式情報を共有シェ
 アしましょう。近所のイベントから全国のイベントま
 で今日のイベント検索やスケジュールを決めるならち
 っくたっく
X-WR-CALNAME:ちっくたっく
X-WR-TIMEZONE:UTC
BEGIN:VEVENT
SUMMARY:　みんなでシネマ上映会＠県立図書館
DTSTART;VALUE=DATE-TIME:20260422T060000Z
DTEND;VALUE=DATE-TIME:20260422T071500Z
UID:338661139728
DESCRIPTION:http://cclive.ikora.tv/e1601450.html
LOCATION:和歌山県立図書館 メディアアートホール 和歌山
 市西高松一丁目7番38号
END:VEVENT
END:VCALENDAR
