BEGIN:VCALENDAR
VERSION:2.0
PRODID:-//chikkutakku.com//RDFCal 1.0//EN
X-WR-CALDESC:GoogleカレンダーやiCalendar形式情報を共有シェ
 アしましょう。近所のイベントから全国のイベントま
 で今日のイベント検索やスケジュールを決めるならち
 っくたっく
X-WR-CALNAME:ちっくたっく
X-WR-TIMEZONE:UTC
BEGIN:VEVENT
SUMMARY:【楽天ブックス限定全巻購入特典+先着特典】『
 僕のヒーローアカデミア』FINAL SEASON DVD Vol.2 初回生産限
 定版(A5キャラファイングラフ+アクリルスタンド+複製サ
 イン入りオールマイトカード)
DTSTART;VALUE=DATE:20260519
DTEND;VALUE=DATE:20260520
UID:338773918813
DESCRIPTION:2026-05-20【楽天ブックス限定全巻購入特典+先着
 特典】『僕のヒーローアカデミア』FINAL SEASON DVD Vol.2 初
 回生産限定版(A5キャラファイングラフ+アクリルスタン
 ド+複製サイン入りオールマイトカード)東宝(株)
LOCATION:
END:VEVENT
END:VCALENDAR
