BEGIN:VCALENDAR
VERSION:2.0
PRODID:-//chikkutakku.com//RDFCal 1.0//EN
X-WR-CALDESC:GoogleカレンダーやiCalendar形式情報を共有シェ
 アしましょう。近所のイベントから全国のイベントま
 で今日のイベント検索やスケジュールを決めるならち
 っくたっく
X-WR-CALNAME:ちっくたっく
X-WR-TIMEZONE:UTC
BEGIN:VEVENT
SUMMARY:(รองฯ พวงแก้ว) ประชุมคณะ
 กรรมการประเมินบุคคลและผล
 งาน กรณีการเลื่อนไปแต่งตั
 ้งให้ดำรงตำแหน่งประเภททั
 ่วไปฯ ณ ห้องรองนายแพทย์สาธ
 ารณสุขจังหวัดสมุทรสงคราม (
 รอง ส) ชั้น ๒ อาคารใหม่สำนัก
 งานสาธารณสุขจังหวัดสมุทร
 สงคราม
DTSTART;VALUE=DATE-TIME:20260422T020000Z
DTEND;VALUE=DATE-TIME:20260422T070000Z
UID:339425393383
DESCRIPTION:ขอเลื่อนเวลาการประชุ
 มจากเดิม13.30น-16.30น.เป็น09.00น.-14.00น.
LOCATION:ณ ห้องรองนายแพทย์สาธาร
 ณสุขจังหวัดสมุทรสงคราม (รอ
 ง ส) ชั้น ๒ อาคารใหม่สำนักงา
 นสาธารณสุขจังหวัดสมุทรสง
 คราม
END:VEVENT
END:VCALENDAR
