BEGIN:VCALENDAR
VERSION:2.0
PRODID:-//chikkutakku.com//RDFCal 1.0//EN
X-WR-CALDESC:GoogleカレンダーやiCalendar形式情報を共有シェ
 アしましょう。近所のイベントから全国のイベントま
 で今日のイベント検索やスケジュールを決めるならち
 っくたっく
X-WR-CALNAME:ちっくたっく
X-WR-TIMEZONE:UTC
BEGIN:VEVENT
SUMMARY:悪魔シスターBAR -Synthvia-
DTSTART;VALUE=DATE-TIME:20260424T130000Z
DTEND;VALUE=DATE-TIME:20260424T140000Z
UID:339622175626
DESCRIPTION:【イベント主催者】\n　シンスヴィアシスター
 ズ\n【イベント内容】\n　帰り道、いつも通りエレベー
 ターに乗った『貴方』は、普段より長い乗降時間に違
 和感を覚え、スマホを見ていた頭を上げた。\n階数は【
 666】。\n思わず二度見してしまった数字に驚きを隠せず
 、もう一度いつもの46階のボタンを押そうとした時、エ
 レベーターはチンっという軽い音を鳴らしてその【666
 】階に止まってしまった。\nゆっくりと開く扉。\n\n「
 ここは悪魔シスターBAR-Synthvia-今宵も子羊たちが迷い込
 んできたようですね。」\n\n気が付けばエレベーター内
 には私と同じく困惑した表情の見知らぬ『子羊』たち
 が佇んでいた。\n\n-+-+-+-+-+-+-+-+-+-+-+-+-+-\n\n【イベント概
 要】\n悪魔シスターVTuber『シンスヴィアシスターズ』が
 主催するRP接客型イベントです。\nキャスト・ボーイと
 のトークやスキンシップなど楽しいひと時をお過ごし
 ください。\n\n月に1~2回、金曜日の22:00~23:00に営業いた
 します。\n本営業後に別途アフタータイム会場をご用意
 いたしますので、ご参加できなかった方は是非お越し
 ください。\n\n-+-+-+-+-+-+-+-+-+-+-+-+-+-\n\n【注意事項】\n・
 小規模イベントのため1インスタンスのみでの開催とな
 る旨ご承知おきください。\n\n・本イベントにて撮影し
 た画像は公式SNSにて公開する可能性がございます。\n\n
 ・お客様から許可なくキャストやボーイへ触れないよ
 うお願いいたします。\n\n・キャストやボーイへの迷惑
 行為はお止めください。\n\n・無許可の録画およびライ
 ブ配信はご遠慮ください。\n\n・アフター営業を含むイ
 ベント開催中のキャストおよびボーイへのフレンド申
 請はご遠慮ください。\n\n・以下のアバターでのご来店
 はご遠慮ください。\n-1.容量の大き過ぎるアバター(DL容
 量30MB以下推奨)\n-2.版権アバターや違法アバター\n-3.NSFW
 に該当するアバター\n-4.過度なパーティクルや武器を導
 入しているアバター\n-5.高負荷なギミックを導入してい
 るアバター\n\n・視界ジャックや大音量ギミックなど他
 のお客様への迷惑になり得る行為はご遠慮ください。\n
 \n※これらに違反する行為を確認した場合キック対象と
 なる恐れがございますのでご注意ください。\n【イベン
 トジャンル】\n　店舗系イベント\, ロールプレイ\, 定期
 イベント\n【参加条件（モデル、人数制限など）】\n　
 人数制限：9名\n【参加方法】\n　『悪魔シスターBAR-Synth
 via-』のグループ(SYN666.1215)へ加入申請いただき、\nイベ
 ント当日の22:00にGroupインスタンスへJoinしてください。
 \n【備考】\n　■公式HP\nhttps://synthviabar.wixsite.com/bar-synthv
 ia\n\n■X\nhttps://x.com/BAR_Synthvia\n\n■Xハッシュタグ\n#DSB_Syn
 thvia
LOCATION:
END:VEVENT
END:VCALENDAR
