BEGIN:VCALENDAR
VERSION:2.0
PRODID:-//chikkutakku.com//RDFCal 1.0//EN
X-WR-CALDESC:GoogleカレンダーやiCalendar形式情報を共有シェ
 アしましょう。近所のイベントから全国のイベントま
 で今日のイベント検索やスケジュールを決めるならち
 っくたっく
X-WR-CALNAME:ちっくたっく
X-WR-TIMEZONE:UTC
BEGIN:VEVENT
SUMMARY:(นพ.สสจ.)ประธานการประชุม
 คณะทำงานป้องกันและแก้ไขป
 ัญหาการตั้งครรภ์ในวัยรุ่
 น จังหวัดศรีสะเกษ ครั้งที่
  1/2569  ณ ห้องประชุมอาคารส่งเส
 ริมสุขภาพ
DTSTART;VALUE=DATE-TIME:20260422T023000Z
DTEND;VALUE=DATE-TIME:20260422T053000Z
UID:341199373439
DESCRIPTION:(นพ.สสจ.)ประธานการประชุ
 มคณะทำงานป้องกันและแก้ไข
 ปัญหาการตั้งครรภ์ในวัยรุ
 ่น จังหวัดศรีสะเกษ ครั้งที
 ่ 1/2569  ณ ห้องประชุมอาคารส่งเ
 สริมสุขภาพ
LOCATION:
END:VEVENT
END:VCALENDAR
