BEGIN:VCALENDAR
VERSION:2.0
PRODID:-//chikkutakku.com//RDFCal 1.0//EN
X-WR-CALDESC:GoogleカレンダーやiCalendar形式情報を共有シェ
 アしましょう。近所のイベントから全国のイベントま
 で今日のイベント検索やスケジュールを決めるならち
 っくたっく
X-WR-CALNAME:ちっくたっく
X-WR-TIMEZONE:UTC
BEGIN:VEVENT
SUMMARY:【第9回】サイバーパンクエッチインナーズ集会
DTSTART;VALUE=DATE-TIME:20260503T130000Z
DTEND;VALUE=DATE-TIME:20260503T140000Z
UID:344252254076
DESCRIPTION:【イベント主催者】\n　常盤いるむ\n【イベン
 ト内容】\n　体にぴったりした衣装全般、ボディスーツ
 やパイロットスーツ、戦闘員スーツ等の改変アバター
 交流会です（サイバー要素は不問）。\n【イベントジャ
 ンル】\n　改変アバター交流会\n【参加条件（モデル、
 人数制限など）】\n　ドレスコードなどは備考ポストの
 画像を参考として下さい。レギュレーションはゆるめ
 ですが過度な露出やグロテスクなものは避けて下さい
 。権利・規約的に問題のあるモデルのアバターの使用
 は禁止です。また、あくまでアバターの見た目の鑑賞
 や交流がメインですので派手なパーティクルや巨大メ
 カ、パフォーマンス演出はお控えください。\n【参加方
 法】\n　（https://vrchat.com/home/group/grp_516fa1cc-e5e6-4d82-89ee-a9
 2a19221bf1）グループ『サイバーパンクエッチインナーズ
 』に参加後、イベント開始時開くGroup Onlyインスタンス
 にJoinして参加。毎回負荷の高めな集会となっておりま
 すのでカリングなど各自対策は行っての参加をお願い
 します。\n【備考】\n　https://x.com/tokiwailm/status/204533919077
 5451659
LOCATION:
END:VEVENT
END:VCALENDAR
